BEGIN:VCALENDAR
VERSION:2.0
PRODID:-//Compagnia Finzi Pasca - ECPv6.15.12.2//NONSGML v1.0//EN
CALSCALE:GREGORIAN
METHOD:PUBLISH
X-ORIGINAL-URL:https://finzipasca.com/it/
X-WR-CALDESC:Eventi per Compagnia Finzi Pasca
REFRESH-INTERVAL;VALUE=DURATION:PT1H
X-Robots-Tag:noindex
X-PUBLISHED-TTL:PT1H
BEGIN:VTIMEZONE
TZID:Europe/Zurich
BEGIN:DAYLIGHT
TZOFFSETFROM:+0100
TZOFFSETTO:+0200
TZNAME:CEST
DTSTART:20250330T010000
END:DAYLIGHT
BEGIN:STANDARD
TZOFFSETFROM:+0200
TZOFFSETTO:+0100
TZNAME:CET
DTSTART:20251026T010000
END:STANDARD
BEGIN:DAYLIGHT
TZOFFSETFROM:+0100
TZOFFSETTO:+0200
TZNAME:CEST
DTSTART:20260329T010000
END:DAYLIGHT
BEGIN:STANDARD
TZOFFSETFROM:+0200
TZOFFSETTO:+0100
TZNAME:CET
DTSTART:20261025T010000
END:STANDARD
BEGIN:DAYLIGHT
TZOFFSETFROM:+0100
TZOFFSETTO:+0200
TZNAME:CEST
DTSTART:20270328T010000
END:DAYLIGHT
BEGIN:STANDARD
TZOFFSETFROM:+0200
TZOFFSETTO:+0100
TZNAME:CET
DTSTART:20271031T010000
END:STANDARD
END:VTIMEZONE
BEGIN:VEVENT
DTSTART;VALUE=DATE:20260423
DTEND;VALUE=DATE:20260504
DTSTAMP:20260426T015814
CREATED:20260216T143344Z
LAST-MODIFIED:20260216T143418Z
UID:27631-1776902400-1777852799@finzipasca.com
SUMMARY:Titizé Cancun
DESCRIPTION:La parola “Corteo” sta a indicare una processione gioiosa\, la nostra è una sorta di parata festosa che nasce dalla fantasia di un clown. Unendo la passione d’attore con l’eleganza e la forza d’acrobata\, lo spettacolo ci trasporta in un mondo teatrale fatto di divertimento\, commedia e spontaneità\, uno spazio misterioso sospeso tra cielo e terra. \nIl clown immagina il proprio funerale avvolto in un’atmosfera carnevalesca\, mentre gli angeli da lassù osservano benevoli e premurosi. L’alto si mescola al basso\, il ridicolo al tragico e la magia della perfezione al fascino dell’imperfezione\, restituendoci la forza e la fragilità del clown\, la sua saggezza e la sua tenera innocenza\, quei tratti di umanità che sono dentro ciascuno di noi. La musica\, a volte lirica\, a volte giocosa\, evoca un rito senza tempo nel quale l’illusione si prende gioco della realtà. \n\n\n\n\n\n\n\n\n\n\n\n\n\n\n 
URL:https://finzipasca.com/it/event/titize-cancun/
LOCATION:Instituto de la Cultura y las Artes / Teatro de la Ciudad\, C. Liebre Lote 9\, Cancun\, Q.R.\, 77500\, Mexico
ATTACH;FMTTYPE=image/jpeg:https://finzipasca.com/wp-content/uploads/2024/06/216A9006-copia_web.jpg
END:VEVENT
BEGIN:VEVENT
DTSTART;VALUE=DATE:20260501
DTEND;VALUE=DATE:20260503
DTSTAMP:20260426T015814
CREATED:20260105T142738Z
LAST-MODIFIED:20260409T153514Z
UID:27549-1777593600-1777766399@finzipasca.com
SUMMARY:Icaro - Coruna
DESCRIPTION:Opera emblematica di Daniele Finzi Pasca\, questo spettacolo pensato per un singolo spettatore ha celebrato il suo 30mo anniversario nel 2021. Soltanto una sola\, privilegiata persona del pubblico\, scelta a caso da Daniele\, è completamente coinvolta sulla scena\, mentre gli altri diventano una sorta di “voyeur”. \nDalla sua creazione nel 1991\, Daniele Finzi Pasca ha interpretato questo spettacolo più di 800 volte\, in diverse lingue\, in tutto il mondo.
URL:https://finzipasca.com/it/event/icaro-coruna/
LOCATION:Teatro Colon\, Avenida da Marina no 7A\, Coruna\, 15001\, Spain
ATTACH;FMTTYPE=image/jpeg:https://finzipasca.com/wp-content/uploads/2018/11/Icaro.jpg
END:VEVENT
END:VCALENDAR