BEGIN:VCALENDAR
VERSION:2.0
PRODID:-//Compagnia Finzi Pasca - ECPv6.15.12.2//NONSGML v1.0//EN
CALSCALE:GREGORIAN
METHOD:PUBLISH
X-WR-CALNAME:Compagnia Finzi Pasca
X-ORIGINAL-URL:https://finzipasca.com/it/
X-WR-CALDESC:Eventi per Compagnia Finzi Pasca
REFRESH-INTERVAL;VALUE=DURATION:PT1H
X-Robots-Tag:noindex
X-PUBLISHED-TTL:PT1H
BEGIN:VTIMEZONE
TZID:Europe/Zurich
BEGIN:DAYLIGHT
TZOFFSETFROM:+0100
TZOFFSETTO:+0200
TZNAME:CEST
DTSTART:20210328T010000
END:DAYLIGHT
BEGIN:STANDARD
TZOFFSETFROM:+0200
TZOFFSETTO:+0100
TZNAME:CET
DTSTART:20211031T010000
END:STANDARD
BEGIN:DAYLIGHT
TZOFFSETFROM:+0100
TZOFFSETTO:+0200
TZNAME:CEST
DTSTART:20220327T010000
END:DAYLIGHT
BEGIN:STANDARD
TZOFFSETFROM:+0200
TZOFFSETTO:+0100
TZNAME:CET
DTSTART:20221030T010000
END:STANDARD
BEGIN:DAYLIGHT
TZOFFSETFROM:+0100
TZOFFSETTO:+0200
TZNAME:CEST
DTSTART:20230326T010000
END:DAYLIGHT
BEGIN:STANDARD
TZOFFSETFROM:+0200
TZOFFSETTO:+0100
TZNAME:CET
DTSTART:20231029T010000
END:STANDARD
END:VTIMEZONE
BEGIN:VEVENT
DTSTART;VALUE=DATE:20220714
DTEND;VALUE=DATE:20220822
DTSTAMP:20260423T094019
CREATED:20220103T175456Z
LAST-MODIFIED:20220103T175806Z
UID:22877-1657756800-1661126399@finzipasca.com
SUMMARY:Luzia - Alicante
DESCRIPTION:Luzia ti porta in un Messico immaginario\, come in un sogno ad occhi aperti\, dove la luce (“luz” in spagnolo) appaga lo spirito e la pioggia (“lluvia”) lenisce l’anima. Attraverso una serie di grandiose sorprese visive ed esecuzioni acrobatiche mozzafiato\, Luzia invita gli spettatori a partire per un viaggio surreale\, in un mondo sontuoso e vivace\, sospeso in qualche modo tra il sogno e la realtà. Passando agevolmente dal set di un film d’epoca all’oceano\, alle atmosfere fumose di una pista da ballo o ad un arido deserto\, Luzia porta abilmente in scena gli innumerevoli luoghi\, volti e suoni del Messico\, sia della tradizione che della modernità. Ricco di momenti suggestivi\, Luzia incanta il pubblico integrando in alcune scene artistiche e acrobatiche l’elemento della pioggia\, la prima volta per una produzione in tournée del Cirque du Soleil.
URL:https://finzipasca.com/it/event/luzia-alicante/
LOCATION:playa san juan\, Avinguda de la Costa Bianca 141\, Alicante\, 3540\, Spain
ATTACH;FMTTYPE=image/jpeg:https://finzipasca.com/wp-content/uploads/2018/02/Luzia.jpeg
END:VEVENT
BEGIN:VEVENT
DTSTART;VALUE=DATE:20220727
DTEND;VALUE=DATE:20220801
DTSTAMP:20260423T094019
CREATED:20220103T185623Z
LAST-MODIFIED:20220103T185735Z
UID:22918-1658880000-1659311999@finzipasca.com
SUMMARY:Corteo - Aix-en-Provence
DESCRIPTION:La parola “Corteo” sta a indicare una processione gioiosa\, la nostra è una sorta di parata festosa che nasce dalla fantasia di un clown. Unendo la passione d’attore con l’eleganza e la forza d’acrobata\, lo spettacolo ci trasporta in un mondo teatrale fatto di divertimento\, commedia e spontaneità\, uno spazio misterioso sospeso tra cielo e terra. \nIl clown immagina il proprio funerale avvolto in un’atmosfera carnevalesca\, mentre gli angeli da lassù osservano benevoli e premurosi. L’alto si mescola al basso\, il ridicolo al tragico e la magia della perfezione al fascino dell’imperfezione\, restituendoci la forza e la fragilità del clown\, la sua saggezza e la sua tenera innocenza\, quei tratti di umanità che sono dentro ciascuno di noi. La musica\, a volte lirica\, a volte giocosa\, evoca un rito senza tempo nel quale l’illusione si prende gioco della realtà.
URL:https://finzipasca.com/it/event/corteo-aixenprovence/
LOCATION:Arena du Pays d’Aix\, 1955 rue Nicolas Ledoux\, AIX-EN-PROVENCE\, 13290\, France
ATTACH;FMTTYPE=image/jpeg:https://finzipasca.com/wp-content/uploads/2018/02/corteo_1.jpg
END:VEVENT
END:VCALENDAR