BEGIN:VCALENDAR
VERSION:2.0
PRODID:-//Compagnia Finzi Pasca - ECPv6.15.12.2//NONSGML v1.0//EN
CALSCALE:GREGORIAN
METHOD:PUBLISH
X-ORIGINAL-URL:https://finzipasca.com/en/
X-WR-CALDESC:Events for Compagnia Finzi Pasca
REFRESH-INTERVAL;VALUE=DURATION:PT1H
X-Robots-Tag:noindex
X-PUBLISHED-TTL:PT1H
BEGIN:VTIMEZONE
TZID:Europe/Zurich
BEGIN:DAYLIGHT
TZOFFSETFROM:+0100
TZOFFSETTO:+0200
TZNAME:CEST
DTSTART:20240331T010000
END:DAYLIGHT
BEGIN:STANDARD
TZOFFSETFROM:+0200
TZOFFSETTO:+0100
TZNAME:CET
DTSTART:20241027T010000
END:STANDARD
BEGIN:DAYLIGHT
TZOFFSETFROM:+0100
TZOFFSETTO:+0200
TZNAME:CEST
DTSTART:20250330T010000
END:DAYLIGHT
BEGIN:STANDARD
TZOFFSETFROM:+0200
TZOFFSETTO:+0100
TZNAME:CET
DTSTART:20251026T010000
END:STANDARD
BEGIN:DAYLIGHT
TZOFFSETFROM:+0100
TZOFFSETTO:+0200
TZNAME:CEST
DTSTART:20260329T010000
END:DAYLIGHT
BEGIN:STANDARD
TZOFFSETFROM:+0200
TZOFFSETTO:+0100
TZNAME:CET
DTSTART:20261025T010000
END:STANDARD
END:VTIMEZONE
BEGIN:VEVENT
DTSTART;VALUE=DATE:20251008
DTEND;VALUE=DATE:20251010
DTSTAMP:20260420T011538
CREATED:20250618T180225Z
LAST-MODIFIED:20250618T180225Z
UID:27146-1759881600-1760054399@finzipasca.com
SUMMARY:Titizé Vevey
DESCRIPTION:True to the language of dreams that brings back fleeting images\, allusions and mirages\, TITIZÉ is a show that carries the spectator into a rarefied and surreal universe. Its narrative\, seemingly fragmented but deeply evocative\, unfolds in a kaleidoscopic play that interweaves different planes of meaning\, conjuring up a hyperbolic “grammelot.” “TITIZÉ\,” “You are”: an emblematic word full of rhythm\, whose evocative sound draws attention to the power of the verb “to be\,” emphasizing the universality of an imagined experience to intimately engage a diverse audience of all ages. The show fuses tradition and innovation in a fascinating combination of clowning\, the language of the body and acrobatics – which allows allusion\, the creation of metaphors\, and the amplification of emotions – and the use of innovative stage devices\, resulting in a theatre of amazement and lightness\, without the need for words. With a cast of eleven talented performers\, including acrobats\, actors and musicians\, TITIZÉ invites the audience to immerse itself in the very essence of Venice\, where the past and the present blend into one fascinating tale and the stories\, scattered like seashells on the beach\, each with its own beauty and mystery\, are reconstructed into a precious mosaic. \n 
URL:https://finzipasca.com/en/event/titize-vevey/
LOCATION:Le Reflet\, Rue du Théâtre 4\, Vevey\, 1800\, Switzerland
ATTACH;FMTTYPE=image/jpeg:https://finzipasca.com/wp-content/uploads/2024/06/216A9006-copia_web.jpg
END:VEVENT
BEGIN:VEVENT
DTSTART;VALUE=DATE:20251017
DTEND;VALUE=DATE:20251020
DTSTAMP:20260420T011538
CREATED:20250618T181636Z
LAST-MODIFIED:20251021T201558Z
UID:27155-1760659200-1760918399@finzipasca.com
SUMMARY:Titizé Müpa Budapest
DESCRIPTION:Spettacolo ufficiale della Città di Venezia \n\n\n\n\n\n\nTITIZÉ – A VENETIAN DREAM – City of Venice’s official show  \n\n\n\n\n“Our clownery has always been intimately linked to tradition and has echoes of the language of the Commedia dell’Arte. \nWe produce shows in which we immerse multidisciplinary performers in rarefied universes where wonder is sometimes naive\, sometimes ingenious\, sometimes surreal. \nReflections in the water\, the hazy blur when the clouds descend lower and lower\, and the mythical game of masquerade that reminds us of cloaking in order to reveal oneself and then reveal oneself again: the three magical movements that magicians and shamans know and have passed down. \nThere will be the night and its madness\, the antics of jesters\, objects that levitate\, acrobats that fly\, surreal rain and a continuous recreation of impossible balance. \nThere will be traditional characters that in a kaleidoscopic game will multiply\, split\, dismantle and reconstruct. \nThere will be Venice with all its splendour\, its atmosphere\, its poetry and the mysteries that inhabit it.”
URL:https://finzipasca.com/en/event/titize-mupa-budapest/
LOCATION:Festival Theatre\, Komor Marcell u. 1\, Budapest\, 1095\, Hungary
ATTACH;FMTTYPE=image/jpeg:https://finzipasca.com/wp-content/uploads/2024/06/216A9006-copia_web.jpg
END:VEVENT
END:VCALENDAR