BEGIN:VCALENDAR
VERSION:2.0
PRODID:-//Compagnia Finzi Pasca - ECPv6.15.12.2//NONSGML v1.0//EN
CALSCALE:GREGORIAN
METHOD:PUBLISH
X-WR-CALNAME:Compagnia Finzi Pasca
X-ORIGINAL-URL:https://finzipasca.com/en/
X-WR-CALDESC:Events for Compagnia Finzi Pasca
REFRESH-INTERVAL;VALUE=DURATION:PT1H
X-Robots-Tag:noindex
X-PUBLISHED-TTL:PT1H
BEGIN:VTIMEZONE
TZID:Europe/Zurich
BEGIN:DAYLIGHT
TZOFFSETFROM:+0100
TZOFFSETTO:+0200
TZNAME:CEST
DTSTART:20220327T010000
END:DAYLIGHT
BEGIN:STANDARD
TZOFFSETFROM:+0200
TZOFFSETTO:+0100
TZNAME:CET
DTSTART:20221030T010000
END:STANDARD
BEGIN:DAYLIGHT
TZOFFSETFROM:+0100
TZOFFSETTO:+0200
TZNAME:CEST
DTSTART:20230326T010000
END:DAYLIGHT
BEGIN:STANDARD
TZOFFSETFROM:+0200
TZOFFSETTO:+0100
TZNAME:CET
DTSTART:20231029T010000
END:STANDARD
BEGIN:DAYLIGHT
TZOFFSETFROM:+0100
TZOFFSETTO:+0200
TZNAME:CEST
DTSTART:20240331T010000
END:DAYLIGHT
BEGIN:STANDARD
TZOFFSETFROM:+0200
TZOFFSETTO:+0100
TZNAME:CET
DTSTART:20241027T010000
END:STANDARD
END:VTIMEZONE
BEGIN:VEVENT
DTSTART;VALUE=DATE:20230124
DTEND;VALUE=DATE:20230130
DTSTAMP:20260423T162258
CREATED:20220829T162646Z
LAST-MODIFIED:20220829T162948Z
UID:23592-1674518400-1675036799@finzipasca.com
SUMMARY:Nuda - Firenze
DESCRIPTION:“I had never felt so alone\, slight\, naked…” \nInspired by the novel of the same name by Daniele Finzi Pasca\, Nuda\, the new creation of the Company is a show full of mystery and amazement\, where depths and abysses are in continuous dialogue with a light and luminous world\, made up of overlapping planes that interact with each other.
URL:https://finzipasca.com/en/event/nuda-firenze/
LOCATION:Teatro della Pergola\, v. della Pergola 18\, Firenze\, 50121\, Italy
ATTACH;FMTTYPE=image/jpeg:https://finzipasca.com/wp-content/uploads/2021/09/nuda_square.jpg
END:VEVENT
END:VCALENDAR